BEGIN:VCALENDAR
VERSION:2.0
PRODID:-//FLASCO Patient Portal - ECPv6.15.20//NONSGML v1.0//EN
CALSCALE:GREGORIAN
METHOD:PUBLISH
X-ORIGINAL-URL:https://patients.flasco.org
X-WR-CALDESC:Events for FLASCO Patient Portal
REFRESH-INTERVAL;VALUE=DURATION:PT1H
X-Robots-Tag:noindex
X-PUBLISHED-TTL:PT1H
BEGIN:VTIMEZONE
TZID:America/St_Thomas
BEGIN:STANDARD
TZOFFSETFROM:-0400
TZOFFSETTO:-0400
TZNAME:AST
DTSTART:20200101T000000
END:STANDARD
END:VTIMEZONE
BEGIN:VEVENT
DTSTART;TZID=America/St_Thomas:20210930T190000
DTEND;TZID=America/St_Thomas:20210930T203000
DTSTAMP:20260424T205643
CREATED:20210916T190419Z
LAST-MODIFIED:20210916T190419Z
UID:1394-1633028400-1633033800@patients.flasco.org
SUMMARY:aHUS TOGETHER Webinar: Atypical Hemolytic Uremic Syndrome
DESCRIPTION:Click here for more information and to register!
URL:https://patients.flasco.org/event/ahus-together-webinar-atypical-hemolytic-uremic-syndrome-2/
END:VEVENT
END:VCALENDAR