BEGIN:VCALENDAR
VERSION:2.0
PRODID:-//FLASCO Patient Portal - ECPv6.15.20//NONSGML v1.0//EN
CALSCALE:GREGORIAN
METHOD:PUBLISH
X-ORIGINAL-URL:https://patients.flasco.org
X-WR-CALDESC:Events for FLASCO Patient Portal
REFRESH-INTERVAL;VALUE=DURATION:PT1H
X-Robots-Tag:noindex
X-PUBLISHED-TTL:PT1H
BEGIN:VTIMEZONE
TZID:America/St_Thomas
BEGIN:STANDARD
TZOFFSETFROM:-0400
TZOFFSETTO:-0400
TZNAME:AST
DTSTART:20200101T000000
END:STANDARD
END:VTIMEZONE
BEGIN:VTIMEZONE
TZID:UTC
BEGIN:STANDARD
TZOFFSETFROM:+0000
TZOFFSETTO:+0000
TZNAME:UTC
DTSTART:20200101T000000
END:STANDARD
END:VTIMEZONE
BEGIN:VEVENT
DTSTART;TZID=America/St_Thomas:20210821T130000
DTEND;TZID=America/St_Thomas:20210821T143000
DTSTAMP:20260424T204731
CREATED:20210802T141421Z
LAST-MODIFIED:20210802T141421Z
UID:1373-1629550800-1629556200@patients.flasco.org
SUMMARY:Prostate Cancer & Nuclear Medicine: What Patients Need to Know
DESCRIPTION:
URL:https://patients.flasco.org/event/prostate-cancer-nuclear-medicine-what-patients-need-to-know/
END:VEVENT
BEGIN:VEVENT
DTSTART;VALUE=DATE:20210826
DTEND;VALUE=DATE:20210827
DTSTAMP:20260424T204731
CREATED:20210112T203708Z
LAST-MODIFIED:20210811T234106Z
UID:1238-1629936000-1630022399@patients.flasco.org
SUMMARY:Living with Non-Hodgkin's | Melbourne
DESCRIPTION:Living with Non-Hodgkin’s | Melbourne
URL:https://patients.flasco.org/event/living-with-non-hodgkins-melbourne/
END:VEVENT
BEGIN:VEVENT
DTSTART;TZID=UTC:20210826T173000
DTEND;TZID=UTC:20210826T210000
DTSTAMP:20260424T204731
CREATED:20210112T203708Z
LAST-MODIFIED:20210811T234336Z
UID:1237-1629999000-1630011600@patients.flasco.org
SUMMARY:Living with Prostate Cancer | Jacksonville
DESCRIPTION:Living with Prostate Cancer | Jacksonville\n  \nClick here for more information and to register! \n 
URL:https://patients.flasco.org/event/living-with-prostate-cancer-jacksonville/
END:VEVENT
END:VCALENDAR