BEGIN:VCALENDAR
VERSION:2.0
PRODID:-//FLASCO Patient Portal - ECPv6.15.20//NONSGML v1.0//EN
CALSCALE:GREGORIAN
METHOD:PUBLISH
X-WR-CALNAME:FLASCO Patient Portal
X-ORIGINAL-URL:https://patients.flasco.org
X-WR-CALDESC:Events for FLASCO Patient Portal
REFRESH-INTERVAL;VALUE=DURATION:PT1H
X-Robots-Tag:noindex
X-PUBLISHED-TTL:PT1H
BEGIN:VTIMEZONE
TZID:UTC
BEGIN:STANDARD
TZOFFSETFROM:+0000
TZOFFSETTO:+0000
TZNAME:UTC
DTSTART:20200101T000000
END:STANDARD
END:VTIMEZONE
BEGIN:VTIMEZONE
TZID:America/St_Thomas
BEGIN:STANDARD
TZOFFSETFROM:-0400
TZOFFSETTO:-0400
TZNAME:AST
DTSTART:20200101T000000
END:STANDARD
END:VTIMEZONE
BEGIN:VEVENT
DTSTART;VALUE=DATE:20210916
DTEND;VALUE=DATE:20210917
DTSTAMP:20260424T204552
CREATED:20210112T203708Z
LAST-MODIFIED:20210811T234428Z
UID:1239-1631750400-1631836799@patients.flasco.org
SUMMARY:Living with Skin Cancer | Sarasota
DESCRIPTION:Living with Skin Cancer | Sarasota
URL:https://patients.flasco.org/event/living-with-skin-cancer-sarasota/
END:VEVENT
BEGIN:VEVENT
DTSTART;TZID=America/St_Thomas:20210922T183000
DTEND;TZID=America/St_Thomas:20210922T200000
DTSTAMP:20260424T204552
CREATED:20210916T185743Z
LAST-MODIFIED:20210916T190259Z
UID:1386-1632335400-1632340800@patients.flasco.org
SUMMARY:aHUS TOGETHER Webinar: Atypical Hemolytic Uremic Syndrome (Tips & Tricks for Daily Living)
DESCRIPTION:Click here for more information and to register!
URL:https://patients.flasco.org/event/ahus-together-webinar-atypical-hemolytic-uremic-syndrome/
END:VEVENT
BEGIN:VEVENT
DTSTART;TZID=America/St_Thomas:20210923T190000
DTEND;TZID=America/St_Thomas:20210923T190000
DTSTAMP:20260424T204552
CREATED:20210916T191450Z
LAST-MODIFIED:20210916T191503Z
UID:1400-1632423600-1632423600@patients.flasco.org
SUMMARY:“Take on your NMOSD”
DESCRIPTION:Click here for more information and to register!
URL:https://patients.flasco.org/event/take-on-your-nmosd/
END:VEVENT
BEGIN:VEVENT
DTSTART;TZID=America/St_Thomas:20210929T190000
DTEND;TZID=America/St_Thomas:20210929T190000
DTSTAMP:20260424T204552
CREATED:20210916T191028Z
LAST-MODIFIED:20210916T191052Z
UID:1396-1632942000-1632942000@patients.flasco.org
SUMMARY:Myasthenia Gravis Activities of Daily Living (MG-ADL): Tracking your gMG symptoms
DESCRIPTION:Click here for more information and to register!
URL:https://patients.flasco.org/event/myasthenia-gravis-activities-of-daily-living-mg-adl-tracking-your-gmg-symptoms/
END:VEVENT
BEGIN:VEVENT
DTSTART;TZID=America/St_Thomas:20210930T190000
DTEND;TZID=America/St_Thomas:20210930T203000
DTSTAMP:20260424T204552
CREATED:20210916T190419Z
LAST-MODIFIED:20210916T190419Z
UID:1394-1633028400-1633033800@patients.flasco.org
SUMMARY:aHUS TOGETHER Webinar: Atypical Hemolytic Uremic Syndrome
DESCRIPTION:Click here for more information and to register!
URL:https://patients.flasco.org/event/ahus-together-webinar-atypical-hemolytic-uremic-syndrome-2/
END:VEVENT
END:VCALENDAR